BEGIN:VCALENDAR
VERSION:2.0
PRODID:-//Eventage - ECPv6.15.20//NONSGML v1.0//EN
CALSCALE:GREGORIAN
METHOD:PUBLISH
X-WR-CALNAME:Eventage
X-ORIGINAL-URL:https://eventage.co.uk
X-WR-CALDESC:Events for Eventage
REFRESH-INTERVAL;VALUE=DURATION:PT1H
X-Robots-Tag:noindex
X-PUBLISHED-TTL:PT1H
BEGIN:VTIMEZONE
TZID:Europe/London
BEGIN:DAYLIGHT
TZOFFSETFROM:+0000
TZOFFSETTO:+0100
TZNAME:BST
DTSTART:20250330T010000
END:DAYLIGHT
BEGIN:STANDARD
TZOFFSETFROM:+0100
TZOFFSETTO:+0000
TZNAME:GMT
DTSTART:20251026T010000
END:STANDARD
BEGIN:DAYLIGHT
TZOFFSETFROM:+0000
TZOFFSETTO:+0100
TZNAME:BST
DTSTART:20260329T010000
END:DAYLIGHT
BEGIN:STANDARD
TZOFFSETFROM:+0100
TZOFFSETTO:+0000
TZNAME:GMT
DTSTART:20261025T010000
END:STANDARD
BEGIN:DAYLIGHT
TZOFFSETFROM:+0000
TZOFFSETTO:+0100
TZNAME:BST
DTSTART:20270328T010000
END:DAYLIGHT
BEGIN:STANDARD
TZOFFSETFROM:+0100
TZOFFSETTO:+0000
TZNAME:GMT
DTSTART:20271031T010000
END:STANDARD
END:VTIMEZONE
BEGIN:VEVENT
DTSTART;TZID=Europe/London:20260423T090000
DTEND;TZID=Europe/London:20260424T163000
DTSTAMP:20260422T132817
CREATED:20251216T104713Z
LAST-MODIFIED:20251216T104713Z
UID:5739-1776934800-1777048200@eventage.co.uk
SUMMARY:PREDICT-Meso International Conference\, 23 - 24 April 2026\, Glasgow
DESCRIPTION:PREDICT-Meso is an International Network of researchers from across the UK and worldwide interested in the study of Mesothelioma\, an incurable cancer most commonly affecting the lining of the lungs and caused by exposure to asbestos fibres. Mesothelioma is preceded by decades of pleural inflammation providing a window of opportunity for precision prediction and early treatment that the Network wishes to explore. Together the teams hope to better understand how mesothelioma develops from its early stages and translate this into more effective diagnosis and treatment for patients. \nThe PREDICT-Meso International Conference is a 2 day in-person event that allows Network members to connect with the PREDICT-Meso community\, listen to updates from worldwide research groups\, and share their research through talks and posters. \nIt is our hope that the conference will lead to connection and collaboration. \nFind out more and Register here
URL:https://eventage.co.uk/event/predict-meso-international-conference-23-24-april-2026-glasgow/
LOCATION:Royal College of Physicians & Surgeons of Glasgow\, 232 - 242 St Vincent Street\, Glasgow\, G2 5RJ
CATEGORIES:Events 2026
ATTACH;FMTTYPE=image/png:https://eventage.co.uk/wp-content/uploads/2025/12/PM-conf-logo-dark-text-white-background.png
END:VEVENT
BEGIN:VEVENT
DTSTART;TZID=Europe/London:20260430T090000
DTEND;TZID=Europe/London:20260501T160000
DTSTAMP:20260422T132817
CREATED:20251216T114439Z
LAST-MODIFIED:20251216T114439Z
UID:5746-1777539600-1777651200@eventage.co.uk
SUMMARY:Society for Acute Medicine's 2026 Spring Meeting: SAMCardiff\, 30 April - 1 May 2026\, Cardiff
DESCRIPTION:The Society for Acute Medicine’s 2026 Spring Conference will take place on 30 April – 1 May 2026 at Cardiff Holland House Hotel. \nThis is a hybrid conference with both in-person and virtual attendance available to book. We have limited in-person places available to book at this venue so please book early if you would like to attend in-person: we expect in-person places at this conference to sell out! Virtual attendees are able to watch ALL sessions online\, both live and on demand\, for 4 months following the conference. The conference virtual platform also offers the opportunity to message and network with other attendees. \n12 External CPD Points will be applied for with the Federation of the Royal Colleges of Physicians of the United Kingdom.  Archived access for SAMCardiff will also be applied for\, for an additional 8 external CPD points. \nView more information and Register here
URL:https://eventage.co.uk/event/society-for-acute-medicines-2026-spring-meeting-samcardiff-30-april-1-may-2026-cardiff/
LOCATION:Cardiff Holland House Hotel\, 24-26 Newport Road\, Cardiff\, CF24 0DD
CATEGORIES:Events 2026
ATTACH;FMTTYPE=image/png:https://eventage.co.uk/wp-content/uploads/2025/12/SAMCardiff-2026-logo-2-strapline-and-date-scaled.png
END:VEVENT
BEGIN:VEVENT
DTSTART;TZID=Europe/London:20260615T090000
DTEND;TZID=Europe/London:20260615T170000
DTSTAMP:20260422T132817
CREATED:20251216T115033Z
LAST-MODIFIED:20260303T143723Z
UID:5754-1781514000-1781542800@eventage.co.uk
SUMMARY:takeAIM Conference\, 15 June 2026\, Edinburgh
DESCRIPTION:The takeAIM Conference is a one day in-person event\, specifically designed for Medical Students\, Foundation Doctors\, IMTs\, ACCS Trainees and Allied Health Professionals. The aim of the conference is to provide career information for those who are considering a career in Acute Internal Medicine but to also focus on delivering relevant clinical and practical updates and workshops on pertinent acute medical topics. \nThe 2026 conference will take place at the Royal College of Physicians in Edinburgh on Monday 15 June 2026.  \nFind out more and register here
URL:https://eventage.co.uk/event/takeaim-conference-15-june-2026-edinburgh/
LOCATION:Royal College of Physicians\, 11 Queen Street\, Edinburgh\, EH2 1JQ
CATEGORIES:Events 2026
ATTACH;FMTTYPE=image/png:https://eventage.co.uk/wp-content/uploads/2025/12/takeAIM-logo.png
END:VEVENT
BEGIN:VEVENT
DTSTART;TZID=Europe/London:20260630T090000
DTEND;TZID=Europe/London:20260701T160000
DTSTAMP:20260422T132817
CREATED:20251216T115617Z
LAST-MODIFIED:20251216T115617Z
UID:5757-1782810000-1782921600@eventage.co.uk
SUMMARY:Health Services Research UK Conference 2026\, 30 June - 1 July 2026\, Manchester
DESCRIPTION:The 19th Annual Health Services Research UK (HSR UK) Conference will take place at Manchester University from 30 June – 1 July 2026. \nHSR UK is dedicated to the promotion of health services and social care research in policy and practice. Our annual conference is open to everyone interested in health and social care services and systems research\, and offers you the opportunity to: \n\nEngage with innovative research: through our multi-disciplinary programme including a wide range of research presentations and interactive workshops selected for their importance and impact\, alongside plenary sessions given by leaders in research\, evaluation\, policy\, and practice.\nBuild your networks: throughout the event you will have the chance to create links across research\, policy\, and practice communities\, form new collaborations\, and engage with decision makers.\nReach a wide audience: participants attend from universities and research institutes\, research funding agencies\, government\, policy think tanks\, NHS and social care bodies\, key peer reviewed journals\, industry\, consultancy\, and the third sector.\n\nMore information and Register here
URL:https://eventage.co.uk/event/health-services-research-uk-conference-2026-30-june-1-july-2026-manchester/
LOCATION:Manchester University –  Nancy Rothwell Building\, Booth Street East\, Manchester\, M13 9PL
CATEGORIES:Events 2026
ATTACH;FMTTYPE=image/jpeg:https://eventage.co.uk/wp-content/uploads/2025/12/1130x300-website-banner-9.jpg
END:VEVENT
BEGIN:VEVENT
DTSTART;TZID=Europe/London:20261008T090000
DTEND;TZID=Europe/London:20261009T160000
DTSTAMP:20260422T132817
CREATED:20251216T120211Z
LAST-MODIFIED:20251216T120211Z
UID:5762-1791450000-1791561600@eventage.co.uk
SUMMARY:Society for Acute Medicine's 20th International Conference: SAMGlasgow\, 8-9 October 2026\, Glasgow
DESCRIPTION:The 20th annual international conference takes place on the 8-9 October 2026 at the Hilton Glasgow. This will be a hybrid conference with both in-person and virtual attendance available to book. \nAbstract submission and registration will open in early June 2026. Save the date in the meantime!
URL:https://eventage.co.uk/event/society-for-acute-medicines-20th-international-conference-samglasgow-8-9-october-2026-glasgow/
LOCATION:Hilton Glasgow\, 1 William Street\, Glasgow\, G3 8HT
CATEGORIES:Events 2026
ATTACH;FMTTYPE=image/jpeg:https://eventage.co.uk/wp-content/uploads/2025/12/SAM-LOGO-cropped.jpg
END:VEVENT
BEGIN:VEVENT
DTSTART;TZID=Europe/London:20261120T090000
DTEND;TZID=Europe/London:20261120T163000
DTSTAMP:20260422T132817
CREATED:20260206T121523Z
LAST-MODIFIED:20260206T121523Z
UID:5776-1795165200-1795192200@eventage.co.uk
SUMMARY:SP3A 2026 Conference\, 20 November 2026\, Glasgow
DESCRIPTION:The Scottish Practice Pharmacy & Prescribing Advisers Annual Conference 2026 will take place on Friday 20 November 2026 at the TIC Building\, University of Strathclyde\, Glasgow. \nAbstract submission will open in June. \nOnline registrations will be invited from all members of the Medicines Management Teams who work within NHSScotland. You must be employed by NHSScotland to register for the SP3A Conference.   Registration will open in mid-August.
URL:https://eventage.co.uk/event/sp3a-2026-conference-20-november-2026-glasgow/
LOCATION:Technology & Innovation Centre\, 99 George Street\, Glasgow\, G1 1RD\, United Kingdom
CATEGORIES:Events 2026
ATTACH;FMTTYPE=image/png:https://eventage.co.uk/wp-content/uploads/2026/02/SP3A-2020-logo.png
END:VEVENT
END:VCALENDAR